BEGIN:VCALENDAR
VERSION:2.0
PRODID:GIGPRESS 2.0 WORDPRESS PLUGIN
CALSCALE:GREGORIAN
X-WR-TIMEZONE:Etc/GMT
METHOD:PUBLISH
BEGIN:VTIMEZONE
TZID:GMT
BEGIN:STANDARD
DTSTART:20071028T010000
TZOFFSETTO:+0000
TZOFFSETFROM:+0000
END:STANDARD
END:VTIMEZONE
BEGIN:VEVENT
SUMMARY:Alexander Liebermann at Acton Memorial Library
DESCRIPTION:Price: FREE. Notes: Harmonies of Nature - Concert-lecture with Alexander Liebermann All Ages
LOCATION:Acton Memorial Library\, 486 Main St.\, Acton\, US
UID:20260426T140000Z-96-aliebermusic@gmail.com
URL:https://alexanderliebermann.com/concerts
DTSTART;VALUE=DATE-TIME;TZID=GMT:20260426T140000Z
DTEND;VALUE=DATE-TIME;TZID=GMT:20260426T140000Z
DTSTAMP:20260424T074554Z
END:VEVENT
END:VCALENDAR